BEGIN:VCALENDAR
VERSION:2.0
PRODID:-//Squarespace Inc/Squarespace 6//v6//EN
BEGIN:VEVENT
UID:5e4dd6d59a372511125b7dfc@squarespace.com
DTSTAMP:20200220T005349Z
DTSTART:20200402T220000Z
DTEND:20200402T233000Z
SUMMARY:End of Quarter Meeting - Q1
END:VEVENT
END:VCALENDAR
