BEGIN:VCALENDAR
VERSION:2.0
PRODID:-//Squarespace Inc/Squarespace 6//v6//EN
BEGIN:VEVENT
UID:5e4dd89d50bc066ba3f464ec@squarespace.com
DTSTAMP:20200220T005416Z
DTSTART:20200702T230000Z
DTEND:20200703T003000Z
SUMMARY:End of Quarter Meeting - Q2
END:VEVENT
END:VCALENDAR
